BEGIN:VCALENDAR
VERSION:2.0
PRODID:-//Kino Tuškanac//Filmski programi//HR
BEGIN:VEVENT
UID:b3b0953c165f9f9961cba7d0a5569963@kinotuskanac.hr
DTSTAMP:20260423T112252Z
DTSTART:20230425T190000
DTEND:20230425T210000
SUMMARY:Samo da smo zdravi
LOCATION:Kino Tuškanac
DESCRIPTION:Tant qu'on a la sante, Francuska, 1966 R: Pierre Étaix, Jean-Claude Carrière
END:VEVENT
END:VCALENDAR