BEGIN:VCALENDAR
VERSION:2.0
PRODID:-//Kino Tuškanac//Filmski programi//HR
BEGIN:VEVENT
UID:c4275c7db448819964218e67510b11bd@kinotuskanac.hr
DTSTAMP:20260423T145406Z
DTSTART:20230425T190000
DTEND:20230425T210000
SUMMARY:U šumu nikad više
LOCATION:Kino Tuškanac
DESCRIPTION:Nous n'irons plus au bois, Francuska, 1966 R: Pierre Étaix, Jean-Claude Carrière
END:VEVENT
END:VCALENDAR