BEGIN:VCALENDAR
VERSION:2.0
PRODID:-//Kino Tuškanac//Filmski programi//HR
BEGIN:VEVENT
UID:01a73302728550269b0e47ca27514fdd@kinotuskanac.hr
DTSTAMP:20260421T221943Z
DTSTART:20230511T210000
DTEND:20230511T230000
SUMMARY:Nun of Your Business
LOCATION:Kino Tuškanac
DESCRIPTION:Hrvatska, Srbija, 2020 R: Ivana Marinić Kragić
END:VEVENT
END:VCALENDAR