BEGIN:VCALENDAR
VERSION:2.0
PRODID:-//Kino Tuškanac//Filmski programi//HR
BEGIN:VEVENT
UID:47d32b3aa89795c8aac455fc98397ab4@kinotuskanac.hr
DTSTAMP:20260420T115247Z
DTSTART:20230503T190000
DTEND:20230503T210000
SUMMARY:Noćni putnici
LOCATION:Kino Tuškanac
DESCRIPTION:Les passagers de la nuit, Francuska, 2022 R: Mikhaël Hers
END:VEVENT
END:VCALENDAR