BEGIN:VCALENDAR
VERSION:2.0
PRODID:-//Kino Tuškanac//Filmski programi//HR
BEGIN:VEVENT
UID:20d9c08d28910ec975825a8558821f71@kinotuskanac.hr
DTSTAMP:20260420T133943Z
DTSTART:20230506T210000
DTEND:20230506T230000
SUMMARY:Korzet
LOCATION:Kino Tuškanac
DESCRIPTION:Corsage, Austrija, Francuska, Luksemburg, Njemačka, 2022 R: Marie Kreutzer
END:VEVENT
END:VCALENDAR