BEGIN:VCALENDAR
VERSION:2.0
PRODID:-//Kino Tuškanac//Filmski programi//HR
BEGIN:VEVENT
UID:f2630205b3b3346064461edbab8597af@kinotuskanac.hr
DTSTAMP:20260419T205658Z
DTSTART:20011211T210000
DTEND:20011211T230000
SUMMARY:M
LOCATION:Kino Tuškanac
DESCRIPTION:M - Eine Stadt sucht einen Mörder, Njemačka, 1931 R: Fritz Lang
END:VEVENT
END:VCALENDAR