BEGIN:VCALENDAR
VERSION:2.0
PRODID:-//Kino Tuškanac//Filmski programi//HR
BEGIN:VEVENT
UID:3ff1774221fd25e8d2734fc4dcd56450@kinotuskanac.hr
DTSTAMP:20260420T115308Z
DTSTART:20230523T190000
DTEND:20230523T210000
SUMMARY:Tori i Lokita
LOCATION:Kino Tuškanac
DESCRIPTION:Tori et Lokita, Belgija, Francuska, 2022 R: Jean-Pierre Dardenne, Luc Dardenne
END:VEVENT
END:VCALENDAR