BEGIN:VCALENDAR
VERSION:2.0
PRODID:-//Kino Tuškanac//Filmski programi//HR
BEGIN:VEVENT
UID:4dbbe248529a18b68ef3b80fd2e16ff6@kinotuskanac.hr
DTSTAMP:20260423T150425Z
DTSTART:20230525T210000
DTEND:20230525T230000
SUMMARY:R.M.N. Stanje nacije
LOCATION:Kino Tuškanac
DESCRIPTION:R.M.N., Rumunjska, Francuska, Belgija, Švedska, 2022 R: Cristian Mungiu
END:VEVENT
END:VCALENDAR