BEGIN:VCALENDAR
VERSION:2.0
PRODID:-//Kino Tuškanac//Filmski programi//HR
BEGIN:VEVENT
UID:f12b5d6a8b1d9bd9d238a9fa2e092c04@kinotuskanac.hr
DTSTAMP:20260423T150512Z
DTSTART:20230526T190000
DTEND:20230526T210000
SUMMARY:R.M.N. Stanje nacije
LOCATION:Kino Tuškanac
DESCRIPTION:R.M.N., Rumunjska, Francuska, Belgija, Švedska, 2022 R: Cristian Mungiu
END:VEVENT
END:VCALENDAR