BEGIN:VCALENDAR
VERSION:2.0
PRODID:-//Kino Tuškanac//Filmski programi//HR
BEGIN:VEVENT
UID:fe33a38d16a7ce8c6f7207b9b53ea7ba@kinotuskanac.hr
DTSTAMP:20260420T133749Z
DTSTART:20230528T190000
DTEND:20230528T210000
SUMMARY:Korzet
LOCATION:Kino Tuškanac
DESCRIPTION:Corsage, Austrija, Francuska, Luksemburg, Njemačka, 2022 R: Marie Kreutzer
END:VEVENT
END:VCALENDAR