BEGIN:VCALENDAR
VERSION:2.0
PRODID:-//Kino Tuškanac//Filmski programi//HR
BEGIN:VEVENT
UID:4575c98858330678faf8963d5e67fb41@kinotuskanac.hr
DTSTAMP:20260423T150613Z
DTSTART:20230528T210000
DTEND:20230528T230000
SUMMARY:R.M.N. Stanje nacije
LOCATION:Kino Tuškanac
DESCRIPTION:R.M.N., Rumunjska, Francuska, Belgija, Švedska, 2022 R: Cristian Mungiu
END:VEVENT
END:VCALENDAR