BEGIN:VCALENDAR
VERSION:2.0
PRODID:-//Kino Tuškanac//Filmski programi//HR
BEGIN:VEVENT
UID:fe01c0173832ce607a11aad7c3aa2153@kinotuskanac.hr
DTSTAMP:20260423T150426Z
DTSTART:20230531T210000
DTEND:20230531T230000
SUMMARY:R.M.N. Stanje nacije
LOCATION:Kino Tuškanac
DESCRIPTION:R.M.N., Rumunjska, Francuska, Belgija, Švedska, 2022 R: Cristian Mungiu
END:VEVENT
END:VCALENDAR