BEGIN:VCALENDAR
VERSION:2.0
PRODID:-//Kino Tuškanac//Filmski programi//HR
BEGIN:VEVENT
UID:976e88f2a58b72efa6ffbf0a6d5da7a6@kinotuskanac.hr
DTSTAMP:20260421T001612Z
DTSTART:20230515T190000
DTEND:20230515T210000
SUMMARY:Trokatnica
LOCATION:Kino Tuškanac
DESCRIPTION:Top, Južna Koreja, 2022 R: Hong Sang-soo
END:VEVENT
END:VCALENDAR