BEGIN:VCALENDAR
VERSION:2.0
PRODID:-//Kino Tuškanac//Filmski programi//HR
BEGIN:VEVENT
UID:ab8bd0b3226690f6664c8348045ab61b@kinotuskanac.hr
DTSTAMP:20260420T191327Z
DTSTART:20230515T210000
DTEND:20230515T230000
SUMMARY:Suho tlo u plamenu
LOCATION:Kino Tuškanac
DESCRIPTION:Mato Seco em Chamas, Brazil, Portugal, 2022 R: Joana Pimenta, Adirley Queirós
END:VEVENT
END:VCALENDAR