BEGIN:VCALENDAR
VERSION:2.0
PRODID:-//Kino Tuškanac//Filmski programi//HR
BEGIN:VEVENT
UID:253c528f7b5a6117765a1dacc5c70ffd@kinotuskanac.hr
DTSTAMP:20260420T191403Z
DTSTART:20230516T170000
DTEND:20230516T190000
SUMMARY:Sjeverni terminal
LOCATION:Kino Tuškanac
DESCRIPTION:Terminal Norte, Argentina, 2021 R: Lucrecia Martel
END:VEVENT
END:VCALENDAR