BEGIN:VCALENDAR
VERSION:2.0
PRODID:-//Kino Tuškanac//Filmski programi//HR
BEGIN:VEVENT
UID:43defe4dc34d1e547bd1b83253f00814@kinotuskanac.hr
DTSTAMP:20260420T191403Z
DTSTART:20230518T180000
DTEND:20230518T200000
SUMMARY:Robinson Crusoe je seronja
LOCATION:Kino Tuškanac
DESCRIPTION:Het leven en de vreemde verrassende avonturen van Robinson Crusoe..., Belgija, 2023 R: Benjamin Deboosere
END:VEVENT
END:VCALENDAR