BEGIN:VCALENDAR
VERSION:2.0
PRODID:-//Kino Tuškanac//Filmski programi//HR
BEGIN:VEVENT
UID:81cb87e9ccd0f7a4032acd8df048bc08@kinotuskanac.hr
DTSTAMP:20260421T011752Z
DTSTART:20230521T163000
DTEND:20230521T183000
SUMMARY:Nakon plime
LOCATION:Kino Tuškanac
DESCRIPTION:Kapag wala nang mga alon, Filipini, Francuska, Portugal, Danska, 2022 | Mjesto prikazivanja filma: Kino Forum (SD Stjepan Radić, Jarunska ul. 2) R: Lav Diaz
END:VEVENT
END:VCALENDAR