BEGIN:VCALENDAR
VERSION:2.0
PRODID:-//Kino Tuškanac//Filmski programi//HR
BEGIN:VEVENT
UID:568e156a73060b393582c68140a17ead@kinotuskanac.hr
DTSTAMP:20260421T134214Z
DTSTART:20230530T210000
DTEND:20230530T230000
SUMMARY:Mali kaos
LOCATION:Kino Tuškanac
DESCRIPTION:Das Kleine Chaos, Zapadna Njemačka, 1967 R: Rainer Werner Fassbinder
END:VEVENT
END:VCALENDAR