BEGIN:VCALENDAR
VERSION:2.0
PRODID:-//Kino Tuškanac//Filmski programi//HR
BEGIN:VEVENT
UID:e098b35f5cbdfd2320367bd47215207a@kinotuskanac.hr
DTSTAMP:20260420T114747Z
DTSTART:20230601T210000
DTEND:20230601T230000
SUMMARY:Noćni putnici
LOCATION:Kino Tuškanac
DESCRIPTION:Les passagers de la nuit, Francuska, 2022 R: Mikhaël Hers
END:VEVENT
END:VCALENDAR