BEGIN:VCALENDAR
VERSION:2.0
PRODID:-//Kino Tuškanac//Filmski programi//HR
BEGIN:VEVENT
UID:e039599c1ce25ca4ce6cb5147e5d0cbe@kinotuskanac.hr
DTSTAMP:20260421T035030Z
DTSTART:20230602T190000
DTEND:20230602T210000
SUMMARY:Da li ste videli ovu ženu?
LOCATION:Kino Tuškanac
DESCRIPTION:Srbija, Hrvatska, 2022 R: Dušan Zorić
END:VEVENT
END:VCALENDAR