BEGIN:VCALENDAR
VERSION:2.0
PRODID:-//Kino Tuškanac//Filmski programi//HR
BEGIN:VEVENT
UID:e2173bcce6691243179708cbb1db901d@kinotuskanac.hr
DTSTAMP:20260423T150340Z
DTSTART:20230604T190000
DTEND:20230604T210000
SUMMARY:R.M.N. Stanje nacije
LOCATION:Kino Tuškanac
DESCRIPTION:R.M.N., Rumunjska, Francuska, Belgija, Švedska, 2022 R: Cristian Mungiu
END:VEVENT
END:VCALENDAR