BEGIN:VCALENDAR
VERSION:2.0
PRODID:-//Kino Tuškanac//Filmski programi//HR
BEGIN:VEVENT
UID:b1e5ad2a134c95ab2ba380315e84e3eb@kinotuskanac.hr
DTSTAMP:20260420T115134Z
DTSTART:20230604T211500
DTEND:20230604T231500
SUMMARY:Noćni putnici
LOCATION:Kino Tuškanac
DESCRIPTION:Les passagers de la nuit, Francuska, 2022 R: Mikhaël Hers
END:VEVENT
END:VCALENDAR