BEGIN:VCALENDAR
VERSION:2.0
PRODID:-//Kino Tuškanac//Filmski programi//HR
BEGIN:VEVENT
UID:938c5c63badc44ee13463269b77b2b79@kinotuskanac.hr
DTSTAMP:20260421T035235Z
DTSTART:20230611T190000
DTEND:20230611T210000
SUMMARY:Da li ste videli ovu ženu?
LOCATION:Kino Tuškanac
DESCRIPTION:Srbija, Hrvatska, 2022 R: Dušan Zorić
END:VEVENT
END:VCALENDAR