BEGIN:VCALENDAR
VERSION:2.0
PRODID:-//Kino Tuškanac//Filmski programi//HR
BEGIN:VEVENT
UID:2390dfb6c19f484d0225eab197f7a157@kinotuskanac.hr
DTSTAMP:20260425T172827Z
DTSTART:20230606T173000
DTEND:20230606T193000
SUMMARY:Chronopolis
LOCATION:Kino Tuškanac
DESCRIPTION:Francuska, 1982 R: Piotr Kamler
END:VEVENT
END:VCALENDAR