BEGIN:VCALENDAR
VERSION:2.0
PRODID:-//Kino Tuškanac//Filmski programi//HR
BEGIN:VEVENT
UID:63c7af1eb65a9f7b597f7aac333c86c7@kinotuskanac.hr
DTSTAMP:20260423T150329Z
DTSTART:20230612T210000
DTEND:20230612T230000
SUMMARY:R.M.N. Stanje nacije
LOCATION:Kino Tuškanac
DESCRIPTION:R.M.N., Rumunjska, Francuska, Belgija, Švedska, 2022 R: Cristian Mungiu
END:VEVENT
END:VCALENDAR