BEGIN:VCALENDAR
VERSION:2.0
PRODID:-//Kino Tuškanac//Filmski programi//HR
BEGIN:VEVENT
UID:20d96060dda4eab79f51604ddbd42df2@kinotuskanac.hr
DTSTAMP:20260420T115012Z
DTSTART:20230613T210000
DTEND:20230613T230000
SUMMARY:Noćni putnici
LOCATION:Kino Tuškanac
DESCRIPTION:Les passagers de la nuit, Francuska, 2022 R: Mikhaël Hers
END:VEVENT
END:VCALENDAR