BEGIN:VCALENDAR
VERSION:2.0
PRODID:-//Kino Tuškanac//Filmski programi//HR
BEGIN:VEVENT
UID:f98f3f8dd66664dc67e2854001c27d1a@kinotuskanac.hr
DTSTAMP:20260420T114747Z
DTSTART:20230615T210000
DTEND:20230615T230000
SUMMARY:Noćni putnici
LOCATION:Kino Tuškanac
DESCRIPTION:Les passagers de la nuit, Francuska, 2022 R: Mikhaël Hers
END:VEVENT
END:VCALENDAR