BEGIN:VCALENDAR
VERSION:2.0
PRODID:-//Kino Tuškanac//Filmski programi//HR
BEGIN:VEVENT
UID:8fc70e4ca8fedf82d43dcf29e29eebf8@kinotuskanac.hr
DTSTAMP:20260423T150621Z
DTSTART:20230616T210000
DTEND:20230616T230000
SUMMARY:R.M.N. Stanje nacije
LOCATION:Kino Tuškanac
DESCRIPTION:R.M.N., Rumunjska, Francuska, Belgija, Švedska, 2022 R: Cristian Mungiu
END:VEVENT
END:VCALENDAR