BEGIN:VCALENDAR
VERSION:2.0
PRODID:-//Kino Tuškanac//Filmski programi//HR
BEGIN:VEVENT
UID:61273f7fbf47d3d9d807076038077cc4@kinotuskanac.hr
DTSTAMP:20260420T114854Z
DTSTART:20230617T190000
DTEND:20230617T210000
SUMMARY:Rupa
LOCATION:Kino Tuškanac
DESCRIPTION:Il Bucco, Italija, Francuska, Njemačka, 2021 R: Michelangelo Frammartino
END:VEVENT
END:VCALENDAR