BEGIN:VCALENDAR
VERSION:2.0
PRODID:-//Kino Tuškanac//Filmski programi//HR
BEGIN:VEVENT
UID:1246559d05bde9881856689011ff941b@kinotuskanac.hr
DTSTAMP:20260419T142105Z
DTSTART:20230620T190000
DTEND:20230620T210000
SUMMARY:Duhovi otoka
LOCATION:Kino Tuškanac
DESCRIPTION:The Banshees of Inisherin, Irska, UK, SAD, 2022 R: Martin McDonagh
END:VEVENT
END:VCALENDAR