BEGIN:VCALENDAR
VERSION:2.0
PRODID:-//Kino Tuškanac//Filmski programi//HR
BEGIN:VEVENT
UID:5df2a6d1d0df2a53104efce957353ae1@kinotuskanac.hr
DTSTAMP:20260423T150425Z
DTSTART:20230621T190000
DTEND:20230621T210000
SUMMARY:R.M.N. Stanje nacije
LOCATION:Kino Tuškanac
DESCRIPTION:R.M.N., Rumunjska, Francuska, Belgija, Švedska, 2022 R: Cristian Mungiu
END:VEVENT
END:VCALENDAR