BEGIN:VCALENDAR
VERSION:2.0
PRODID:-//Kino Tuškanac//Filmski programi//HR
BEGIN:VEVENT
UID:18dcc1e60c8bdae210b2bb6a08f7b76a@kinotuskanac.hr
DTSTAMP:20260419T141936Z
DTSTART:20230625T190000
DTEND:20230625T210000
SUMMARY:Duhovi otoka
LOCATION:Kino Tuškanac
DESCRIPTION:The Banshees of Inisherin, Irska, UK, SAD, 2022 R: Martin McDonagh
END:VEVENT
END:VCALENDAR