BEGIN:VCALENDAR
VERSION:2.0
PRODID:-//Kino Tuškanac//Filmski programi//HR
BEGIN:VEVENT
UID:af7250e3431028627e275d645cc6f82e@kinotuskanac.hr
DTSTAMP:20260420T115016Z
DTSTART:20230628T190000
DTEND:20230628T210000
SUMMARY:Rupa
LOCATION:Kino Tuškanac
DESCRIPTION:Il Bucco, Italija, Francuska, Njemačka, 2021 R: Michelangelo Frammartino
END:VEVENT
END:VCALENDAR