BEGIN:VCALENDAR
VERSION:2.0
PRODID:-//Kino Tuškanac//Filmski programi//HR
BEGIN:VEVENT
UID:a85761c3e77239466ada31525fb453c3@kinotuskanac.hr
DTSTAMP:20260425T203446Z
DTSTART:20230713T210000
DTEND:20230713T230000
SUMMARY:Dogodilo se jedne noći
LOCATION:Kino Tuškanac
DESCRIPTION:It Happened One Night, SAD, 1934 R: Frank Capra
END:VEVENT
END:VCALENDAR