BEGIN:VCALENDAR
VERSION:2.0
PRODID:-//Kino Tuškanac//Filmski programi//HR
BEGIN:VEVENT
UID:8c539118aa94741a8eb43a2a7769ab55@kinotuskanac.hr
DTSTAMP:20260420T190304Z
DTSTART:20060509T200000
DTEND:20060509T220000
SUMMARY:Varšava
LOCATION:Kino Tuškanac
DESCRIPTION:Warszawa, 2003 R: Dariusz Gajewski
END:VEVENT
END:VCALENDAR