BEGIN:VCALENDAR
VERSION:2.0
PRODID:-//Kino Tuškanac//Filmski programi//HR
BEGIN:VEVENT
UID:aec7a686ffbfa154250e94293f888fef@kinotuskanac.hr
DTSTAMP:20260420T190400Z
DTSTART:20060510T190000
DTEND:20060510T210000
SUMMARY:Varšava
LOCATION:Kino Tuškanac
DESCRIPTION:Warszawa, 2003 R: Dariusz Gajewski
END:VEVENT
END:VCALENDAR