BEGIN:VCALENDAR
VERSION:2.0
PRODID:-//Kino Tuškanac//Filmski programi//HR
BEGIN:VEVENT
UID:1af7b8eb5b99eb29d87722538a8d28c6@kinotuskanac.hr
DTSTAMP:20260423T230843Z
DTSTART:20230910T170000
DTEND:20230910T190000
SUMMARY:Kraljica plesa
LOCATION:Kino Tuškanac
DESCRIPTION:Dancing Queen, Norveška, 2023 R: Aurora Gossé
END:VEVENT
END:VCALENDAR