BEGIN:VCALENDAR
VERSION:2.0
PRODID:-//Kino Tuškanac//Filmski programi//HR
BEGIN:VEVENT
UID:8a6a772f031a43793f030d286f31245c@kinotuskanac.hr
DTSTAMP:20260424T212307Z
DTSTART:20230917T210000
DTEND:20230917T230000
SUMMARY:Upoznaj svojeg zeca
LOCATION:Kino Tuškanac
DESCRIPTION:Get To Know Your Rabbit, SAD, 1972 R: Brian De Palma
END:VEVENT
END:VCALENDAR