BEGIN:VCALENDAR
VERSION:2.0
PRODID:-//Kino Tuškanac//Filmski programi//HR
BEGIN:VEVENT
UID:9b9f1e3dd9782f812c214a5969c6a9eb@kinotuskanac.hr
DTSTAMP:20260424T153247Z
DTSTART:20230920T210000
DTEND:20230920T230000
SUMMARY:Carrie
LOCATION:Kino Tuškanac
DESCRIPTION:SAD, 1976 R: Brian De Palma
END:VEVENT
END:VCALENDAR