BEGIN:VCALENDAR
VERSION:2.0
PRODID:-//Kino Tuškanac//Filmski programi//HR
BEGIN:VEVENT
UID:ad1321c668a4396e5828b01842aa9319@kinotuskanac.hr
DTSTAMP:20260424T154658Z
DTSTART:20230921T210000
DTEND:20230921T230000
SUMMARY:Furija
LOCATION:Kino Tuškanac
DESCRIPTION:The Fury, SAD, 1978 R: Brian De Palma
END:VEVENT
END:VCALENDAR