BEGIN:VCALENDAR
VERSION:2.0
PRODID:-//Kino Tuškanac//Filmski programi//HR
BEGIN:VEVENT
UID:da6462b65afd3ec826f316a6ad3f1f6c@kinotuskanac.hr
DTSTAMP:20260420T161052Z
DTSTART:20060511T190000
DTEND:20060511T210000
SUMMARY:Dug
LOCATION:Kino Tuškanac
DESCRIPTION:Dług, 1999 R: Krzysztof Krauze
END:VEVENT
END:VCALENDAR