BEGIN:VCALENDAR
VERSION:2.0
PRODID:-//Kino Tuškanac//Filmski programi//HR
BEGIN:VEVENT
UID:fb87907126f8f9e98de9f94e312680e0@kinotuskanac.hr
DTSTAMP:20260423T232247Z
DTSTART:20230924T170000
DTEND:20230924T190000
SUMMARY:Valdova priča
LOCATION:Kino Tuškanac
DESCRIPTION:Llenos de gracia, Španjolska, 2022 R: Roberto Bueso
END:VEVENT
END:VCALENDAR