BEGIN:VCALENDAR
VERSION:2.0
PRODID:-//Kino Tuškanac//Filmski programi//HR
BEGIN:VEVENT
UID:2f6427547bdfc118e09c053a1bcd603f@kinotuskanac.hr
DTSTAMP:20260424T183342Z
DTSTART:20230924T210000
DTEND:20230924T230000
SUMMARY:Nedodirljivi
LOCATION:Kino Tuškanac
DESCRIPTION:The Untouchables, SAD, 1987 | Mjesto prikazivanja filma: Kino Forum (SD Stjepan Radić, Jarunska ul. 2) R: Brian De Palma
END:VEVENT
END:VCALENDAR