BEGIN:VCALENDAR
VERSION:2.0
PRODID:-//Kino Tuškanac//Filmski programi//HR
BEGIN:VEVENT
UID:442bad7ffd5c931cbab17371c3231ced@kinotuskanac.hr
DTSTAMP:20260424T212343Z
DTSTART:20231004T210000
DTEND:20231004T230000
SUMMARY:Upoznaj svojeg zeca
LOCATION:Kino Tuškanac
DESCRIPTION:Get To Know Your Rabbit, SAD, 1972 R: Brian De Palma
END:VEVENT
END:VCALENDAR