BEGIN:VCALENDAR
VERSION:2.0
PRODID:-//Kino Tuškanac//Filmski programi//HR
BEGIN:VEVENT
UID:bc1e8b395dffa7e8b9c22ed422169dff@kinotuskanac.hr
DTSTAMP:20260422T214933Z
DTSTART:20231003T190000
DTEND:20231003T210000
SUMMARY:Svako ima svoj Everest
LOCATION:Kino Tuškanac
DESCRIPTION:BiH, 2023 R: Midhat Mujkić
END:VEVENT
END:VCALENDAR