BEGIN:VCALENDAR
VERSION:2.0
PRODID:-//Kino Tuškanac//Filmski programi//HR
BEGIN:VEVENT
UID:a61f0bd583ec71723086d11a4ff15f86@kinotuskanac.hr
DTSTAMP:20260424T093059Z
DTSTART:20231004T190000
DTEND:20231004T210000
SUMMARY:Šta tebi znači BiH?
LOCATION:Kino Tuškanac
DESCRIPTION:BiH, 2023 R: skupina autora
END:VEVENT
END:VCALENDAR