BEGIN:VCALENDAR
VERSION:2.0
PRODID:-//Kino Tuškanac//Filmski programi//HR
BEGIN:VEVENT
UID:4548dad35f532b34484b47efd79f5126@kinotuskanac.hr
DTSTAMP:20260420T174904Z
DTSTART:20231018T200000
DTEND:20231018T220000
SUMMARY:Apokalipsa danas: Final Cut
LOCATION:Kino Tuškanac
DESCRIPTION:Apocalypse Now: Final Cut, SAD, 1979 | Mjesto prikazivanja filma: Kino Forum (SD Stjepan Radić, Jarunska ul. 2) R: Francis Ford Coppola
END:VEVENT
END:VCALENDAR