BEGIN:VCALENDAR
VERSION:2.0
PRODID:-//Kino Tuškanac//Filmski programi//HR
BEGIN:VEVENT
UID:8d6abeeff0af051b4eb81b7bf5b661c9@kinotuskanac.hr
DTSTAMP:20260424T182007Z
DTSTART:20231019T200000
DTEND:20231019T220000
SUMMARY:2001: Odiseja u svemiru
LOCATION:Kino Tuškanac
DESCRIPTION:2001: A Space Odyssey, SAD, UK, 1968 | Mjesto prikazivanja filma: Centar za kulturu Histrionski dom (Ilica 90) R: Stanley Kubrick
END:VEVENT
END:VCALENDAR