BEGIN:VCALENDAR
VERSION:2.0
PRODID:-//Kino Tuškanac//Filmski programi//HR
BEGIN:VEVENT
UID:2232d78504cce3557d1ebc1216626cd2@kinotuskanac.hr
DTSTAMP:20260421T093105Z
DTSTART:20231022T200000
DTEND:20231022T220000
SUMMARY:Maršal
LOCATION:Kino Tuškanac
DESCRIPTION:Hrvatska, 1999 | Mjesto prikazivanja filma: Centar za kulturu i informacije Maksimir (ul. Lavoslava Švarca 18) R: Vinko Brešan
END:VEVENT
END:VCALENDAR