BEGIN:VCALENDAR
VERSION:2.0
PRODID:-//Kino Tuškanac//Filmski programi//HR
BEGIN:VEVENT
UID:f38152de5a8e64723f58041b8ed6dca7@kinotuskanac.hr
DTSTAMP:20260423T113316Z
DTSTART:20231219T190000
DTEND:20231219T210000
SUMMARY:Arabeske na Pirosmanijevu temu
LOCATION:Kino Tuškanac
DESCRIPTION:Arabeskebi Pirosmanis temaze, SSSR, 1986 | Mjesto prikazivanja filma: Kino Kinoteka (Kordunska ul. 1) R: Sergej Paradžanov
END:VEVENT
END:VCALENDAR